BEGIN:VCALENDAR
VERSION:2.0
PRODID:-//Breaking the Chains Foundation - ECPv6.15.20//NONSGML v1.0//EN
CALSCALE:GREGORIAN
METHOD:PUBLISH
X-WR-CALNAME:Breaking the Chains Foundation
X-ORIGINAL-URL:https://breakingthechainsfoundation.org
X-WR-CALDESC:Events for Breaking the Chains Foundation
REFRESH-INTERVAL;VALUE=DURATION:PT1H
X-Robots-Tag:noindex
X-PUBLISHED-TTL:PT1H
BEGIN:VTIMEZONE
TZID:America/New_York
BEGIN:DAYLIGHT
TZOFFSETFROM:-0500
TZOFFSETTO:-0400
TZNAME:EDT
DTSTART:20240310T070000
END:DAYLIGHT
BEGIN:STANDARD
TZOFFSETFROM:-0400
TZOFFSETTO:-0500
TZNAME:EST
DTSTART:20241103T060000
END:STANDARD
BEGIN:DAYLIGHT
TZOFFSETFROM:-0500
TZOFFSETTO:-0400
TZNAME:EDT
DTSTART:20250309T070000
END:DAYLIGHT
BEGIN:STANDARD
TZOFFSETFROM:-0400
TZOFFSETTO:-0500
TZNAME:EST
DTSTART:20251102T060000
END:STANDARD
BEGIN:DAYLIGHT
TZOFFSETFROM:-0500
TZOFFSETTO:-0400
TZNAME:EDT
DTSTART:20260308T070000
END:DAYLIGHT
BEGIN:STANDARD
TZOFFSETFROM:-0400
TZOFFSETTO:-0500
TZNAME:EST
DTSTART:20261101T060000
END:STANDARD
END:VTIMEZONE
BEGIN:VEVENT
DTSTART;TZID=America/New_York:20251102T140000
DTEND;TZID=America/New_York:20251102T180000
DTSTAMP:20260419T102748
CREATED:20251008T184204Z
LAST-MODIFIED:20251015T190008Z
UID:9007-1762092000-1762106400@breakingthechainsfoundation.org
SUMMARY:BIG C NEW ME POWER CREW EVENT
DESCRIPTION:BIG C NEW ME POWER CREW EVENT\n\nOne day with the “Big C New Me Power Crew” makes such a difference in the lives of cancer survivors\, caregivers and volunteers! \nBig C New Me Application and Sign Up – Scan QR code or click on link\nNov 2nd\, 2025 \n\n2pm – 6 pm\nThe Well \n114 E. Parker St.\nLakeland\, FL 33801\nFree! Must have tickets to attend\n\n\n\nABOUT:\nCreated by 2x cancer survivor and #BTCF Board Member\, Amy Hart. “Big C New Me” is a program serving cancer survivors and caregivers. We help women\, men\, and teens deal with the challenges of living with -and overcoming the side effects of- cancer and treatment by providing confidence-building\, educational\, and support resources.“The Power Crew” is our most popular event: one day with the crew focusing on empowerment and confidence. We include hair/wig cut and style\, professional makeup application\, and professional portraits to keep. Other benefits include lunch\, swag bags\, education\, connections\, support\, and resources. \nThank you to our partners!
URL:https://breakingthechainsfoundation.org/event/big-c-new-me-power-crew-event/
LOCATION:The Well\, 114 E. Parker St.\, Lakeland\, FL\, 33801\, United States
CATEGORIES:Big C New Me
ATTACH;FMTTYPE=image/png:https://breakingthechainsfoundation.org/wp-content/uploads/2025/10/Lakeland-PC-Flyer-1.png
ORGANIZER;CN="Debra Hopkins - Breaking The Chains Foundation":MAILTO:iambreakingthechains@gmail.com
END:VEVENT
END:VCALENDAR