BEGIN:VCALENDAR
VERSION:2.0
PRODID:-//Breaking the Chains Foundation - ECPv6.15.20//NONSGML v1.0//EN
CALSCALE:GREGORIAN
METHOD:PUBLISH
X-ORIGINAL-URL:https://breakingthechainsfoundation.org
X-WR-CALDESC:Events for Breaking the Chains Foundation
REFRESH-INTERVAL;VALUE=DURATION:PT1H
X-Robots-Tag:noindex
X-PUBLISHED-TTL:PT1H
BEGIN:VTIMEZONE
TZID:America/Los_Angeles
BEGIN:DAYLIGHT
TZOFFSETFROM:-0800
TZOFFSETTO:-0700
TZNAME:PDT
DTSTART:20250309T100000
END:DAYLIGHT
BEGIN:STANDARD
TZOFFSETFROM:-0700
TZOFFSETTO:-0800
TZNAME:PST
DTSTART:20251102T090000
END:STANDARD
BEGIN:DAYLIGHT
TZOFFSETFROM:-0800
TZOFFSETTO:-0700
TZNAME:PDT
DTSTART:20260308T100000
END:DAYLIGHT
BEGIN:STANDARD
TZOFFSETFROM:-0700
TZOFFSETTO:-0800
TZNAME:PST
DTSTART:20261101T090000
END:STANDARD
BEGIN:DAYLIGHT
TZOFFSETFROM:-0800
TZOFFSETTO:-0700
TZNAME:PDT
DTSTART:20270314T100000
END:DAYLIGHT
BEGIN:STANDARD
TZOFFSETFROM:-0700
TZOFFSETTO:-0800
TZNAME:PST
DTSTART:20271107T090000
END:STANDARD
END:VTIMEZONE
BEGIN:VEVENT
DTSTART;TZID=America/Los_Angeles:20260503T100000
DTEND;TZID=America/Los_Angeles:20260503T140000
DTSTAMP:20260419T085308
CREATED:20260330T171934Z
LAST-MODIFIED:20260330T172649Z
UID:9267-1777802400-1777816800@breakingthechainsfoundation.org
SUMMARY:Power Crew – A Day of Renewal and Confidence for Cancer Survivors & Caregivers
DESCRIPTION:The Power Crew supports cancer survivors and caregivers as they transition back into everyday life.\n\n\n\n\n\n\n\n\n\n\n \nCancer survivors and caregivers in the Simi Valley area are invited to apply for a powerful\, one-day transformational experience hosted by national nonprofit Breaking The Chains Foundation and its signature program Big C New Me. \nThe Power Crew event— created by cancer survivor Amy Hart and co-directed by Courtney Hope – offers participants a complimentary day of professional styling\, confidence-building\, and a professional photo shoot designed to help survivors reconnect with their identity\, strength\, and selfworth after cancer. \nAfter treatment ends\, the demands of work\, family\, and daily responsibilities don’t slow down — even when you’re still rebuilding strength and confidence. Returning to the workplace\, managing home life\, and navigating expectations can feel overwhelming. \nPower Crew provides professional hair\, makeup\, and photography experiences designed to help participants feel confident\, seen\, and ready for what’s next. \nCaregivers are equally supported. Their constant care\, emotional labor\, and exhaustion often go unnoticed — and this day is for them\, too. \nWHAT \nA complimentary\, immersive makeover experience including: \n\nProfessional hair and styling\nSkin care and/or professional makeup application\nA professional photo shoot capturing each participant’s strength and story\n\nWHO \nUp to 50 cancer survivors and caregivers (ages 13+) will be selected. \nParticipants must be able to attend a four-hour experience. \nApply here \nPre-registration required. No walk-ins. \nDay: Sunday May 3rd\nTime: 10:00am  2:00pm\nVenue: The Colour Bar – 2585 Cochran St.. Suite A\, Simi Valley\, CA 93063\nOpen to all cancer survivors and caregivers age 13+.\nRegistration is required.
URL:https://breakingthechainsfoundation.org/event/pc-ca26/
LOCATION:The Colour Bar\, 2585 Cochran St.. Suite A\, Simi Valley\, CA\, 93063\, United States
CATEGORIES:Big C New Me
ATTACH;FMTTYPE=image/jpeg:https://breakingthechainsfoundation.org/wp-content/uploads/2026/03/Westminster-01-scaled.jpg
END:VEVENT
END:VCALENDAR