BEGIN:VCALENDAR
VERSION:2.0
PRODID:-//Breaking the Chains Foundation - ECPv6.15.20//NONSGML v1.0//EN
CALSCALE:GREGORIAN
METHOD:PUBLISH
X-ORIGINAL-URL:https://breakingthechainsfoundation.org
X-WR-CALDESC:Events for Breaking the Chains Foundation
REFRESH-INTERVAL;VALUE=DURATION:PT1H
X-Robots-Tag:noindex
X-PUBLISHED-TTL:PT1H
BEGIN:VTIMEZONE
TZID:America/Los_Angeles
BEGIN:DAYLIGHT
TZOFFSETFROM:-0800
TZOFFSETTO:-0700
TZNAME:PDT
DTSTART:20200308T100000
END:DAYLIGHT
BEGIN:STANDARD
TZOFFSETFROM:-0700
TZOFFSETTO:-0800
TZNAME:PST
DTSTART:20201101T090000
END:STANDARD
BEGIN:DAYLIGHT
TZOFFSETFROM:-0800
TZOFFSETTO:-0700
TZNAME:PDT
DTSTART:20210314T100000
END:DAYLIGHT
BEGIN:STANDARD
TZOFFSETFROM:-0700
TZOFFSETTO:-0800
TZNAME:PST
DTSTART:20211107T090000
END:STANDARD
BEGIN:DAYLIGHT
TZOFFSETFROM:-0800
TZOFFSETTO:-0700
TZNAME:PDT
DTSTART:20220313T100000
END:DAYLIGHT
BEGIN:STANDARD
TZOFFSETFROM:-0700
TZOFFSETTO:-0800
TZNAME:PST
DTSTART:20221106T090000
END:STANDARD
END:VTIMEZONE
BEGIN:VEVENT
DTSTART;TZID=America/Los_Angeles:20210313T100000
DTEND;TZID=America/Los_Angeles:20210313T140000
DTSTAMP:20260419T150936
CREATED:20210305T061241Z
LAST-MODIFIED:20210315T155015Z
UID:6458-1615629600-1615644000@breakingthechainsfoundation.org
SUMMARY:Cooking with Chef Gason BTCF Fundraiser Event
DESCRIPTION:Canvas of Culinary Arts BTCF Fundraiser\nCooking Live\nNOLA CELEBRITY CHEF GASON\nSaturday\, March 13th\, 2021\n10 – 2p PST / 12 – 4p CST / 1 – 5p EST\nView/Donate Chef Gason Canvas of Culinary Arts and BTCF FB Live \n\n\nVote for favorite ingredients & New Orleans Trivia during the PRE-FUNDRAISING events happening NOW!\nDue to technical issues\, we remain to leave the campaign open – please click here to view the live and please click on the campaign page to donate and still win rewards and prizes. \n \nBTCF is thrilled to partner with NOLA Celebrity Chef Gason for a 4-hour live stream cooking fundraiser\, Canvas of Culinary Arts. This event will air live on Tiltify.com and BTCF FB  Chef Gason and his team have kindly contributed their time\, talent\, and resources to the Canvas of Culinary Arts Fundraiser. Proceeds will help BTCF provide services and education to those struggling with eating disorders\, disordered eating\, and negative body image relationships.  \nChef Gason will engage you in the culinary experience\, respecting all food\, the preparation process\, and the enjoyment of food. He believes plating is a canvas for one to express yourself and to use your imagination. The possibilities are endless\, have fun\, shared experiences and create memories with families and friends while having a purpose that can be bold and exciting! \nYou don’t want to miss the cooking\, recipes\, challenges\, rewards\, surprises\, prizes\, beautiful video performances\, testimonies\, including celebrity visits\, and much more.\nABOUT CHEF GASON \nNOLA Chef Gason Nelson is a Global Cooking Instructor for ‘The Chef & The Dish\,’ a Private/Personal Chef/Owner/CEO of “Full of Flavor” in New Orleans\, and a National Featured Chef in many publications and television programs\, including Food Network’s ‘Chopped\,’ Readers Digest\, Sports Illustrated\, and New Orleans’s morning shows to name a few. He is a two-time James Beard Scholar and was also named Louisiana top 25 Best Chefs of 2017 and 2020. His celebrity clients include celebrities Dwayne ‘The Rock’ Johnson\, Matthew McConaughey\, Sinbad\, the Kardashians\, and NBA and NFL Players like Aaron Brooks\, DeMarcus Cousins\, Reggie Bush\, Chris Paul\, and Ben Watson. He is also a long-time supporter of Breaking the Chains Foundation!
URL:https://breakingthechainsfoundation.org/event/6458/
CATEGORIES:Cooking
END:VEVENT
END:VCALENDAR